BEGIN:VCALENDAR
VERSION:2.0
PRODID:-//eventon.com NONSGML v1.0//EN
CALSCALE:GREGORIAN
METHOD:PUBLISH
BEGIN:VEVENT
UID:69e743ab25e70
DTSTAMP:20260421T093019Z
DTSTART:20241019T163000Z
DTEND:20241019T190000Z
LOCATION:
SUMMARY:Bundesliga: FC Bayern - VFB Stuttgart
DESCRIPTION:Anstoß:   18:30 Uhr Abfahrt Bus: 14:30 Hausham Netto - Schlie
 rsee - Fischbachau - 15:00 Elbach Da in dieser Zeit Straßen (Teil)Sperrung
 en im Leitzachtal angekündigt sind\,  können sich kurzfristig Änderungen
  ergeben! Für das leibliche Wohl im Bus ist gesorgt!\nhttps://fanclub-leit
 zachtal-fc.bayern/events/bundesliga-fc-bayern-vfb-stuttgart/
URL:https://fanclub-leitzachtal-fc.bayern/events/bundesliga-fc-bayern-vfb-stuttgart/
END:VEVENT
END:VCALENDAR