BEGIN:VCALENDAR
VERSION:2.0
PRODID:-//eventon.com NONSGML v1.0//EN
CALSCALE:GREGORIAN
METHOD:PUBLISH
BEGIN:VEVENT
UID:69e74c3cd8145
DTSTAMP:20260421T100652Z
DTSTART:20250118T143000Z
DTEND:20250118T163000Z
LOCATION:
SUMMARY:BL: FCBayern - VfL Wolfsburg
DESCRIPTION:Anstoß: 15:30 Uhr Abfahrt Bus: 11:30:00 Hausham Netto – Schl
 iersee – Fischbachau – 12:00 Elbach Für das leibliche Wohl im Bus ist 
 gesorgt!\nhttps://fanclub-leitzachtal-fc.bayern/events/bl-fcbayern-vfl-wolf
 sburg/
URL:https://fanclub-leitzachtal-fc.bayern/events/bl-fcbayern-vfl-wolfsburg/
END:VEVENT
END:VCALENDAR